BEGIN:VCALENDAR
VERSION:2.0
PRODID:-//Supreme Athletics - ECPv6.15.20//NONSGML v1.0//EN
CALSCALE:GREGORIAN
METHOD:PUBLISH
X-ORIGINAL-URL:https://saroyalty.com
X-WR-CALDESC:Events for Supreme Athletics
REFRESH-INTERVAL;VALUE=DURATION:PT1H
X-Robots-Tag:noindex
X-PUBLISHED-TTL:PT1H
BEGIN:VTIMEZONE
TZID:UTC
BEGIN:STANDARD
TZOFFSETFROM:+0000
TZOFFSETTO:+0000
TZNAME:UTC
DTSTART:20250101T000000
END:STANDARD
END:VTIMEZONE
BEGIN:VEVENT
DTSTART;TZID=UTC:20260601T080000
DTEND;TZID=UTC:20260604T150000
DTSTAMP:20260425T110717
CREATED:20260311T143137Z
LAST-MODIFIED:20260311T145201Z
UID:10000035-1780300800-1780585200@saroyalty.com
SUMMARY:Slime Week
DESCRIPTION:Kick off the summer with a mess of fun! Slime Week is all about tactile creativity and hands-on excitement. Campers will enjoy a variety of slime-themed activities and gym fun to start the summer off right. \n\nDate: June 1\, 2026 – June 4\, 2026\nPrice: $125 for 4 days | $45 per day\n\n[vc_btn title=”REGISTER HERE” style=”gradient-custom” gradient_custom_color_1=”#000000″ gradient_custom_color_2=”#000000″ align=”center” css_animation=”flipInX” button_block=”true” link=”url:portal.iclasspro.com/supremeathletics/camp-details/269?typeId=14&filters=%7B%22sorting%22:%22time%22%7D&campTypeName=Summer%20Gym%20Camp&campTypeNamePlural=Summer%20Gym%20Camp|title:Register%20Here”]
URL:https://saroyalty.com/event/slime-week/
CATEGORIES:Summer Camps
ATTACH;FMTTYPE=image/png:https://saroyalty.com/wp-content/uploads/2026/03/Supreme-Athletics-11.png
END:VEVENT
END:VCALENDAR